Package: RBioFormats Version: 1.0.0 Command: chmod a+r RBioFormats -R && F:\biocbuild\bbs-3.17-bioc\R\bin\R.exe CMD build --keep-empty-dirs --no-resave-data RBioFormats StartedAt: 2023-10-15 21:39:19 -0400 (Sun, 15 Oct 2023) EndedAt: 2023-10-15 21:39:45 -0400 (Sun, 15 Oct 2023) EllapsedTime: 25.3 seconds RetCode: 0 Status: OK PackageFile: RBioFormats_1.0.0.tar.gz PackageFileSize: 320.2 KiB