Package: RBioFormats Version: 1.0.0 Command: /Library/Frameworks/R.framework/Resources/bin/R CMD build --keep-empty-dirs --no-resave-data RBioFormats StartedAt: 2023-10-15 20:32:30 -0400 (Sun, 15 Oct 2023) EndedAt: 2023-10-15 20:33:11 -0400 (Sun, 15 Oct 2023) EllapsedTime: 40.4 seconds RetCode: 0 Status: OK PackageFile: RBioFormats_1.0.0.tar.gz PackageFileSize: 320 KiB