Package: RBM Version: 1.32.0 Command: rm -rf RBM.buildbin-libdir && mkdir RBM.buildbin-libdir && F:\biocbuild\bbs-3.17-bioc\R\bin\R.exe CMD INSTALL --build --library=RBM.buildbin-libdir RBM_1.32.0.tar.gz StartedAt: 2023-10-16 09:20:30 -0400 (Mon, 16 Oct 2023) EndedAt: 2023-10-16 09:20:34 -0400 (Mon, 16 Oct 2023) EllapsedTime: 4.0 seconds RetCode: 0 Status: OK PackageFile: RBM_1.32.0.zip PackageFileSize: 272.7 KiB