Package: RBM Version: 1.32.0 Command: /Library/Frameworks/R.framework/Resources/bin/R CMD build --keep-empty-dirs --no-resave-data RBM StartedAt: 2023-10-15 20:32:55 -0400 (Sun, 15 Oct 2023) EndedAt: 2023-10-15 20:34:28 -0400 (Sun, 15 Oct 2023) EllapsedTime: 92.7 seconds RetCode: 0 Status: OK PackageFile: RBM_1.32.0.tar.gz PackageFileSize: 371.6 KiB