Package: RAREsim Version: 1.4.0 Command: /home/biocbuild/bbs-3.17-bioc/R/bin/R CMD check --install=check:RAREsim.install-out.txt --library=/home/biocbuild/bbs-3.17-bioc/R/site-library --timings RAREsim_1.4.0.tar.gz StartedAt: 2023-10-16 00:13:36 -0400 (Mon, 16 Oct 2023) EndedAt: 2023-10-16 00:13:54 -0400 (Mon, 16 Oct 2023) EllapsedTime: 18.3 seconds RetCode: 0 Status: OK CheckDir: RAREsim.Rcheck Warnings: 0