Package: RAREsim Version: 1.4.0 Command: /home/biocbuild/bbs-3.17-bioc/R/bin/R CMD build --keep-empty-dirs --no-resave-data RAREsim StartedAt: 2023-10-15 18:06:16 -0400 (Sun, 15 Oct 2023) EndedAt: 2023-10-15 18:06:22 -0400 (Sun, 15 Oct 2023) EllapsedTime: 5.3 seconds RetCode: 0 Status: OK PackageFile: RAREsim_1.4.0.tar.gz PackageFileSize: 290.4 KiB