Package: R4RNA Version: 1.28.0 Command: F:\biocbuild\bbs-3.17-bioc\R\bin\R.exe CMD check --no-multiarch --install=check:R4RNA.install-out.txt --library=F:\biocbuild\bbs-3.17-bioc\R\library --no-vignettes --timings R4RNA_1.28.0.tar.gz StartedAt: 2023-10-16 05:40:35 -0400 (Mon, 16 Oct 2023) EndedAt: 2023-10-16 05:41:56 -0400 (Mon, 16 Oct 2023) EllapsedTime: 81.0 seconds RetCode: 0 Status: OK CheckDir: R4RNA.Rcheck Warnings: 0