Package: R4RNA Version: 1.28.0 Command: chmod a+r R4RNA -R && F:\biocbuild\bbs-3.17-bioc\R\bin\R.exe CMD build --keep-empty-dirs --no-resave-data R4RNA StartedAt: 2023-10-15 21:36:16 -0400 (Sun, 15 Oct 2023) EndedAt: 2023-10-15 21:36:40 -0400 (Sun, 15 Oct 2023) EllapsedTime: 24.0 seconds RetCode: 0 Status: OK PackageFile: R4RNA_1.28.0.tar.gz PackageFileSize: 788 KiB