Package: R4RNA Version: 1.28.0 Command: /Library/Frameworks/R.framework/Resources/bin/R CMD build --keep-empty-dirs --no-resave-data R4RNA StartedAt: 2023-10-15 20:30:38 -0400 (Sun, 15 Oct 2023) EndedAt: 2023-10-15 20:31:25 -0400 (Sun, 15 Oct 2023) EllapsedTime: 47.3 seconds RetCode: 0 Status: OK PackageFile: R4RNA_1.28.0.tar.gz PackageFileSize: 903.9 KiB