Package: R453Plus1Toolbox Version: 1.50.0 Command: chmod a+r R453Plus1Toolbox -R && F:\biocbuild\bbs-3.17-bioc\R\bin\R.exe CMD build --keep-empty-dirs --no-resave-data R453Plus1Toolbox StartedAt: 2023-10-15 21:36:00 -0400 (Sun, 15 Oct 2023) EndedAt: 2023-10-15 21:39:09 -0400 (Sun, 15 Oct 2023) EllapsedTime: 189.2 seconds RetCode: 0 Status: OK PackageFile: R453Plus1Toolbox_1.50.0.tar.gz PackageFileSize: 838.2 KiB