Package: R453Plus1Toolbox Version: 1.50.0 Command: rm -rf R453Plus1Toolbox.buildbin-libdir && mkdir R453Plus1Toolbox.buildbin-libdir && F:\biocbuild\bbs-3.17-bioc\R\bin\R.exe CMD INSTALL --build --library=R453Plus1Toolbox.buildbin-libdir R453Plus1Toolbox_1.50.0.tar.gz StartedAt: 2023-10-16 09:19:45 -0400 (Mon, 16 Oct 2023) EndedAt: 2023-10-16 09:21:29 -0400 (Mon, 16 Oct 2023) EllapsedTime: 103.4 seconds RetCode: 0 Status: OK PackageFile: R453Plus1Toolbox_1.50.0.zip PackageFileSize: 2.273 MiB