Package: R453Plus1Toolbox Version: 1.50.0 Command: /Library/Frameworks/R.framework/Resources/bin/R CMD build --keep-empty-dirs --no-resave-data R453Plus1Toolbox StartedAt: 2023-10-15 20:30:36 -0400 (Sun, 15 Oct 2023) EndedAt: 2023-10-15 20:35:01 -0400 (Sun, 15 Oct 2023) EllapsedTime: 264.9 seconds RetCode: 0 Status: OK PackageFile: R453Plus1Toolbox_1.50.0.tar.gz PackageFileSize: 838.9 KiB