Package: R453Plus1Toolbox Version: 1.50.0 Command: rm -rf R453Plus1Toolbox.buildbin-libdir && mkdir R453Plus1Toolbox.buildbin-libdir && /Users/biocbuild/BBS/utils/build-universal.sh R453Plus1Toolbox_1.50.0.tar.gz /Library/Frameworks/R.framework/Resources/bin/R R453Plus1Toolbox.buildbin-libdir StartedAt: 2023-10-16 09:59:37 -0400 (Mon, 16 Oct 2023) EndedAt: 2023-10-16 10:04:09 -0400 (Mon, 16 Oct 2023) EllapsedTime: 272.2 seconds RetCode: 0 Status: OK PackageFile: R453Plus1Toolbox_1.50.0.tgz PackageFileSize: 2.256 MiB