Package: R3CPET Version: 1.32.0 Command: F:\biocbuild\bbs-3.17-bioc\R\bin\R.exe CMD INSTALL R3CPET StartedAt: 2023-10-15 16:31:25 -0400 (Sun, 15 Oct 2023) EndedAt: 2023-10-15 16:33:07 -0400 (Sun, 15 Oct 2023) EllapsedTime: 102.1 seconds RetCode: 0 Status: OK