Package: R3CPET Version: 1.32.0 Command: /Library/Frameworks/R.framework/Resources/bin/R CMD build --keep-empty-dirs --no-resave-data R3CPET StartedAt: 2023-10-15 20:30:05 -0400 (Sun, 15 Oct 2023) EndedAt: 2023-10-15 20:30:48 -0400 (Sun, 15 Oct 2023) EllapsedTime: 43.3 seconds RetCode: 1 Status: ERROR PackageFile: None PackageFileSize: NA