Package: R3CPET Version: 1.31.0 Command: rm -rf R3CPET.buildbin-libdir && mkdir R3CPET.buildbin-libdir && /Users/biocbuild/BBS/utils/build-universal.sh R3CPET_1.31.0.tar.gz /Library/Frameworks/R.framework/Resources/bin/R R3CPET.buildbin-libdir StartedAt: 2023-03-16 09:44:30 -0400 (Thu, 16 Mar 2023) EndedAt: 2023-03-16 09:48:45 -0400 (Thu, 16 Mar 2023) EllapsedTime: 255.4 seconds RetCode: 0 Status: OK PackageFile: R3CPET_1.31.0.tgz PackageFileSize: 5.092 MiB