Package: QuaternaryProd Version: 1.34.0 Command: chmod a+r QuaternaryProd -R && F:\biocbuild\bbs-3.17-bioc\R\bin\R.exe CMD build --keep-empty-dirs --no-resave-data QuaternaryProd StartedAt: 2023-10-15 21:35:24 -0400 (Sun, 15 Oct 2023) EndedAt: 2023-10-15 21:41:42 -0400 (Sun, 15 Oct 2023) EllapsedTime: 378.7 seconds RetCode: 0 Status: OK PackageFile: QuaternaryProd_1.34.0.tar.gz PackageFileSize: 10.75 MiB