Package: QuaternaryProd Version: 1.34.0 Command: rm -rf QuaternaryProd.buildbin-libdir && mkdir QuaternaryProd.buildbin-libdir && F:\biocbuild\bbs-3.17-bioc\R\bin\R.exe CMD INSTALL --build --library=QuaternaryProd.buildbin-libdir QuaternaryProd_1.34.0.tar.gz StartedAt: 2023-10-16 09:19:30 -0400 (Mon, 16 Oct 2023) EndedAt: 2023-10-16 09:20:05 -0400 (Mon, 16 Oct 2023) EllapsedTime: 34.3 seconds RetCode: 0 Status: OK PackageFile: QuaternaryProd_1.34.0.zip PackageFileSize: 11.18 MiB