Package: QuaternaryProd Version: 1.34.0 Command: /home/biocbuild/bbs-3.17-bioc/R/bin/R CMD check --install=check:QuaternaryProd.install-out.txt --library=/home/biocbuild/bbs-3.17-bioc/R/site-library --timings QuaternaryProd_1.34.0.tar.gz StartedAt: 2023-10-16 00:10:45 -0400 (Mon, 16 Oct 2023) EndedAt: 2023-10-16 00:11:32 -0400 (Mon, 16 Oct 2023) EllapsedTime: 47.0 seconds RetCode: 0 Status: OK CheckDir: QuaternaryProd.Rcheck Warnings: 0