Package: QuaternaryProd Version: 1.34.0 Command: /home/biocbuild/bbs-3.17-bioc/R/bin/R CMD build --keep-empty-dirs --no-resave-data QuaternaryProd StartedAt: 2023-10-15 18:04:47 -0400 (Sun, 15 Oct 2023) EndedAt: 2023-10-15 18:10:17 -0400 (Sun, 15 Oct 2023) EllapsedTime: 329.4 seconds RetCode: 0 Status: OK PackageFile: QuaternaryProd_1.34.0.tar.gz PackageFileSize: 10.75 MiB