Package: QuaternaryProd Version: 1.34.0 Command: /Library/Frameworks/R.framework/Resources/bin/R CMD check --install=check:QuaternaryProd.install-out.txt --library=/Library/Frameworks/R.framework/Resources/library --no-vignettes --timings QuaternaryProd_1.34.0.tar.gz StartedAt: 2023-10-16 05:42:54 -0400 (Mon, 16 Oct 2023) EndedAt: 2023-10-16 05:44:58 -0400 (Mon, 16 Oct 2023) EllapsedTime: 124.7 seconds RetCode: 0 Status: OK CheckDir: QuaternaryProd.Rcheck Warnings: 0