Package: QuaternaryProd Version: 1.34.0 Command: rm -rf QuaternaryProd.buildbin-libdir && mkdir QuaternaryProd.buildbin-libdir && /Users/biocbuild/BBS/utils/build-universal.sh QuaternaryProd_1.34.0.tar.gz /Library/Frameworks/R.framework/Resources/bin/R QuaternaryProd.buildbin-libdir StartedAt: 2023-10-16 09:59:17 -0400 (Mon, 16 Oct 2023) EndedAt: 2023-10-16 10:00:40 -0400 (Mon, 16 Oct 2023) EllapsedTime: 82.9 seconds RetCode: 0 Status: OK PackageFile: QuaternaryProd_1.34.0.tgz PackageFileSize: 10.89 MiB