Package: Qtlizer Version: 1.14.0 Command: F:\biocbuild\bbs-3.17-bioc\R\bin\R.exe CMD INSTALL Qtlizer StartedAt: 2023-10-15 17:00:39 -0400 (Sun, 15 Oct 2023) EndedAt: 2023-10-15 17:00:42 -0400 (Sun, 15 Oct 2023) EllapsedTime: 2.8 seconds RetCode: 0 Status: OK