Package: Qtlizer Version: 1.14.0 Command: F:\biocbuild\bbs-3.17-bioc\R\bin\R.exe CMD check --no-multiarch --install=check:Qtlizer.install-out.txt --library=F:\biocbuild\bbs-3.17-bioc\R\library --no-vignettes --timings Qtlizer_1.14.0.tar.gz StartedAt: 2023-10-16 05:37:58 -0400 (Mon, 16 Oct 2023) EndedAt: 2023-10-16 05:38:24 -0400 (Mon, 16 Oct 2023) EllapsedTime: 26.5 seconds RetCode: 0 Status: OK CheckDir: Qtlizer.Rcheck Warnings: 0