Package: Qtlizer Version: 1.14.0 Command: chmod a+r Qtlizer -R && F:\biocbuild\bbs-3.17-bioc\R\bin\R.exe CMD build --keep-empty-dirs --no-resave-data Qtlizer StartedAt: 2023-10-15 21:33:52 -0400 (Sun, 15 Oct 2023) EndedAt: 2023-10-15 21:34:03 -0400 (Sun, 15 Oct 2023) EllapsedTime: 11.0 seconds RetCode: 0 Status: OK PackageFile: Qtlizer_1.14.0.tar.gz PackageFileSize: 223.2 KiB