Package: Qtlizer Version: 1.14.0 Command: /Library/Frameworks/R.framework/Resources/bin/R CMD check --install=check:Qtlizer.install-out.txt --library=/Library/Frameworks/R.framework/Resources/library --no-vignettes --timings Qtlizer_1.14.0.tar.gz StartedAt: 2023-10-16 05:41:46 -0400 (Mon, 16 Oct 2023) EndedAt: 2023-10-16 05:42:36 -0400 (Mon, 16 Oct 2023) EllapsedTime: 50.2 seconds RetCode: 0 Status: OK CheckDir: Qtlizer.Rcheck Warnings: 0