Package: QUBIC Version: 1.28.0 Command: rm -rf QUBIC.buildbin-libdir && mkdir QUBIC.buildbin-libdir && F:\biocbuild\bbs-3.17-bioc\R\bin\R.exe CMD INSTALL --build --library=QUBIC.buildbin-libdir QUBIC_1.28.0.tar.gz StartedAt: 2023-10-16 09:19:32 -0400 (Mon, 16 Oct 2023) EndedAt: 2023-10-16 09:20:28 -0400 (Mon, 16 Oct 2023) EllapsedTime: 56.1 seconds RetCode: 0 Status: OK PackageFile: QUBIC_1.28.0.zip PackageFileSize: 1.008 MiB