Package: QUBIC Version: 1.28.0 Command: /home/biocbuild/bbs-3.17-bioc/R/bin/R CMD INSTALL QUBIC StartedAt: 2023-10-15 15:41:04 -0400 (Sun, 15 Oct 2023) EndedAt: 2023-10-15 15:41:35 -0400 (Sun, 15 Oct 2023) EllapsedTime: 31.1 seconds RetCode: 0 Status: OK