Package: QUBIC Version: 1.28.0 Command: /home/biocbuild/bbs-3.17-bioc/R/bin/R CMD build --keep-empty-dirs --no-resave-data QUBIC StartedAt: 2023-10-15 18:04:55 -0400 (Sun, 15 Oct 2023) EndedAt: 2023-10-15 18:06:31 -0400 (Sun, 15 Oct 2023) EllapsedTime: 95.2 seconds RetCode: 0 Status: OK PackageFile: QUBIC_1.28.0.tar.gz PackageFileSize: 494.6 KiB