Package: QUBIC Version: 1.28.0 Command: /Library/Frameworks/R.framework/Resources/bin/R CMD build --keep-empty-dirs --no-resave-data QUBIC StartedAt: 2023-10-15 20:29:52 -0400 (Sun, 15 Oct 2023) EndedAt: 2023-10-15 20:33:10 -0400 (Sun, 15 Oct 2023) EllapsedTime: 197.5 seconds RetCode: 0 Status: OK PackageFile: QUBIC_1.28.0.tar.gz PackageFileSize: 494.4 KiB