Package: QSutils
Version: 1.18.0
Command: /Library/Frameworks/R.framework/Resources/bin/R CMD INSTALL QSutils
StartedAt: 2023-10-15 15:27:15 -0400 (Sun, 15 Oct 2023)
EndedAt: 2023-10-15 15:27:57 -0400 (Sun, 15 Oct 2023)
EllapsedTime: 41.6 seconds
RetCode: 0
Status: OK