Package: QFeatures Version: 1.10.0 Command: F:\biocbuild\bbs-3.17-bioc\R\bin\R.exe CMD INSTALL QFeatures StartedAt: 2023-10-15 16:28:21 -0400 (Sun, 15 Oct 2023) EndedAt: 2023-10-15 16:28:59 -0400 (Sun, 15 Oct 2023) EllapsedTime: 37.6 seconds RetCode: 0 Status: OK