Package: QFeatures Version: 1.10.0 Command: rm -rf QFeatures.buildbin-libdir && mkdir QFeatures.buildbin-libdir && F:\biocbuild\bbs-3.17-bioc\R\bin\R.exe CMD INSTALL --build --library=QFeatures.buildbin-libdir QFeatures_1.10.0.tar.gz StartedAt: 2023-10-16 09:18:53 -0400 (Mon, 16 Oct 2023) EndedAt: 2023-10-16 09:19:32 -0400 (Mon, 16 Oct 2023) EllapsedTime: 39.5 seconds RetCode: 0 Status: OK PackageFile: QFeatures_1.10.0.zip PackageFileSize: 2.63 MiB