Package: QFeatures Version: 1.10.0 Command: /Library/Frameworks/R.framework/Resources/bin/R CMD check --install=check:QFeatures.install-out.txt --library=/Library/Frameworks/R.framework/Resources/library --no-vignettes --timings QFeatures_1.10.0.tar.gz StartedAt: 2023-10-16 05:39:52 -0400 (Mon, 16 Oct 2023) EndedAt: 2023-10-16 05:49:51 -0400 (Mon, 16 Oct 2023) EllapsedTime: 598.9 seconds RetCode: 0 Status: OK CheckDir: QFeatures.Rcheck Warnings: 0