Package: QFeatures Version: 1.10.0 Command: /Library/Frameworks/R.framework/Resources/bin/R CMD build --keep-empty-dirs --no-resave-data QFeatures StartedAt: 2023-10-15 20:27:45 -0400 (Sun, 15 Oct 2023) EndedAt: 2023-10-15 20:30:38 -0400 (Sun, 15 Oct 2023) EllapsedTime: 172.7 seconds RetCode: 0 Status: OK PackageFile: QFeatures_1.10.0.tar.gz PackageFileSize: 2.762 MiB