Package: QDNAseq Version: 1.36.0 Command: F:\biocbuild\bbs-3.17-bioc\R\bin\R.exe CMD INSTALL QDNAseq StartedAt: 2023-10-15 16:15:35 -0400 (Sun, 15 Oct 2023) EndedAt: 2023-10-15 16:16:06 -0400 (Sun, 15 Oct 2023) EllapsedTime: 31.0 seconds RetCode: 0 Status: OK