Package: QDNAseq Version: 1.36.0 Command: chmod a+r QDNAseq -R && F:\biocbuild\bbs-3.17-bioc\R\bin\R.exe CMD build --keep-empty-dirs --no-resave-data QDNAseq StartedAt: 2023-10-15 21:32:28 -0400 (Sun, 15 Oct 2023) EndedAt: 2023-10-15 21:35:31 -0400 (Sun, 15 Oct 2023) EllapsedTime: 182.9 seconds RetCode: 1 Status: ERROR PackageFile: None PackageFileSize: NA