Package: QDNAseq Version: 1.36.0 Command: rm -rf QDNAseq.buildbin-libdir && mkdir QDNAseq.buildbin-libdir && F:\biocbuild\bbs-3.17-bioc\R\bin\R.exe CMD INSTALL --build --library=QDNAseq.buildbin-libdir QDNAseq_1.36.0.tar.gz StartedAt: 2023-09-20 09:36:08 -0400 (Wed, 20 Sep 2023) EndedAt: 2023-09-20 09:36:37 -0400 (Wed, 20 Sep 2023) EllapsedTime: 29.6 seconds RetCode: 0 Status: OK PackageFile: QDNAseq_1.36.0.zip PackageFileSize: 1.404 MiB