Package: QDNAseq Version: 1.36.0 Command: /home/biocbuild/bbs-3.17-bioc/R/bin/R CMD INSTALL QDNAseq StartedAt: 2023-10-15 15:18:41 -0400 (Sun, 15 Oct 2023) EndedAt: 2023-10-15 15:18:59 -0400 (Sun, 15 Oct 2023) EllapsedTime: 18.7 seconds RetCode: 0 Status: OK