Package: QDNAseq Version: 1.36.0 Command: /home/biocbuild/bbs-3.17-bioc/R/bin/R CMD check --install=check:QDNAseq.install-out.txt --library=/home/biocbuild/bbs-3.17-bioc/R/site-library --timings QDNAseq_1.36.0.tar.gz StartedAt: 2023-10-16 00:07:13 -0400 (Mon, 16 Oct 2023) EndedAt: 2023-10-16 00:14:24 -0400 (Mon, 16 Oct 2023) EllapsedTime: 430.5 seconds RetCode: 0 Status: OK CheckDir: QDNAseq.Rcheck Warnings: 0