Package: QDNAseq Version: 1.36.0 Command: /home/biocbuild/bbs-3.17-bioc/R/bin/R CMD build --keep-empty-dirs --no-resave-data QDNAseq StartedAt: 2023-10-15 18:03:38 -0400 (Sun, 15 Oct 2023) EndedAt: 2023-10-15 18:04:25 -0400 (Sun, 15 Oct 2023) EllapsedTime: 46.8 seconds RetCode: 0 Status: OK PackageFile: QDNAseq_1.36.0.tar.gz PackageFileSize: 1.018 MiB