Package: QDNAseq Version: 1.36.0 Command: /Library/Frameworks/R.framework/Resources/bin/R CMD check --install=check:QDNAseq.install-out.txt --library=/Library/Frameworks/R.framework/Resources/library --no-vignettes --timings QDNAseq_1.36.0.tar.gz StartedAt: 2023-10-16 05:39:36 -0400 (Mon, 16 Oct 2023) EndedAt: 2023-10-16 05:53:16 -0400 (Mon, 16 Oct 2023) EllapsedTime: 820.0 seconds RetCode: 0 Status: OK CheckDir: QDNAseq.Rcheck Warnings: 0