Package: QDNAseq Version: 1.36.0 Command: rm -rf QDNAseq.buildbin-libdir && mkdir QDNAseq.buildbin-libdir && /Users/biocbuild/BBS/utils/build-universal.sh QDNAseq_1.36.0.tar.gz /Library/Frameworks/R.framework/Resources/bin/R QDNAseq.buildbin-libdir StartedAt: 2023-10-16 09:58:40 -0400 (Mon, 16 Oct 2023) EndedAt: 2023-10-16 10:00:01 -0400 (Mon, 16 Oct 2023) EllapsedTime: 80.8 seconds RetCode: 0 Status: OK PackageFile: QDNAseq_1.36.0.tgz PackageFileSize: 1.596 MiB