Package: Pviz Version: 1.34.0 Command: chmod a+r Pviz -R && F:\biocbuild\bbs-3.17-bioc\R\bin\R.exe CMD build --keep-empty-dirs --no-resave-data Pviz StartedAt: 2023-10-15 21:31:01 -0400 (Sun, 15 Oct 2023) EndedAt: 2023-10-15 21:32:51 -0400 (Sun, 15 Oct 2023) EllapsedTime: 109.7 seconds RetCode: 0 Status: OK PackageFile: Pviz_1.34.0.tar.gz PackageFileSize: 199.2 KiB