Package: Pviz Version: 1.34.0 Command: rm -rf Pviz.buildbin-libdir && mkdir Pviz.buildbin-libdir && F:\biocbuild\bbs-3.17-bioc\R\bin\R.exe CMD INSTALL --build --library=Pviz.buildbin-libdir Pviz_1.34.0.tar.gz StartedAt: 2023-10-16 09:18:34 -0400 (Mon, 16 Oct 2023) EndedAt: 2023-10-16 09:20:08 -0400 (Mon, 16 Oct 2023) EllapsedTime: 94.0 seconds RetCode: 0 Status: OK PackageFile: Pviz_1.34.0.zip PackageFileSize: 672.5 KiB