Package: Pviz Version: 1.34.0 Command: /Library/Frameworks/R.framework/Resources/bin/R CMD INSTALL Pviz StartedAt: 2023-10-15 15:55:05 -0400 (Sun, 15 Oct 2023) EndedAt: 2023-10-15 15:58:33 -0400 (Sun, 15 Oct 2023) EllapsedTime: 208.6 seconds RetCode: 0 Status: OK