Package: Pviz Version: 1.34.0 Command: /Library/Frameworks/R.framework/Resources/bin/R CMD check --install=check:Pviz.install-out.txt --library=/Library/Frameworks/R.framework/Resources/library --no-vignettes --timings Pviz_1.34.0.tar.gz StartedAt: 2023-10-16 05:37:05 -0400 (Mon, 16 Oct 2023) EndedAt: 2023-10-16 05:49:17 -0400 (Mon, 16 Oct 2023) EllapsedTime: 732.1 seconds RetCode: 0 Status: WARNINGS CheckDir: Pviz.Rcheck Warnings: 1