Package: Pviz Version: 1.34.0 Command: rm -rf Pviz.buildbin-libdir && mkdir Pviz.buildbin-libdir && /Users/biocbuild/BBS/utils/build-universal.sh Pviz_1.34.0.tar.gz /Library/Frameworks/R.framework/Resources/bin/R Pviz.buildbin-libdir StartedAt: 2023-10-16 09:58:18 -0400 (Mon, 16 Oct 2023) EndedAt: 2023-10-16 10:02:06 -0400 (Mon, 16 Oct 2023) EllapsedTime: 228.4 seconds RetCode: 0 Status: OK PackageFile: Pviz_1.34.0.tgz PackageFileSize: 668.6 KiB