Package: PureCN Version: 2.6.4 Command: F:\biocbuild\bbs-3.17-bioc\R\bin\R.exe CMD INSTALL PureCN StartedAt: 2023-10-15 16:25:33 -0400 (Sun, 15 Oct 2023) EndedAt: 2023-10-15 16:26:36 -0400 (Sun, 15 Oct 2023) EllapsedTime: 63.1 seconds RetCode: 0 Status: OK