Package: PureCN Version: 2.6.4 Command: F:\biocbuild\bbs-3.17-bioc\R\bin\R.exe CMD check --no-multiarch --install=check:PureCN.install-out.txt --library=F:\biocbuild\bbs-3.17-bioc\R\library --no-vignettes --timings PureCN_2.6.4.tar.gz StartedAt: 2023-10-16 05:33:28 -0400 (Mon, 16 Oct 2023) EndedAt: 2023-10-16 05:51:34 -0400 (Mon, 16 Oct 2023) EllapsedTime: 1086.1 seconds RetCode: 0 Status: OK CheckDir: PureCN.Rcheck Warnings: 0